BEGIN:VCALENDAR
VERSION:2.0
PRODID:-//Welcome to Wayside Waifs - ECPv6.15.20//NONSGML v1.0//EN
CALSCALE:GREGORIAN
METHOD:PUBLISH
X-ORIGINAL-URL:https://waysidewaifs.org
X-WR-CALDESC:Events for Welcome to Wayside Waifs
REFRESH-INTERVAL;VALUE=DURATION:PT1H
X-Robots-Tag:noindex
X-PUBLISHED-TTL:PT1H
BEGIN:VTIMEZONE
TZID:America/Chicago
BEGIN:DAYLIGHT
TZOFFSETFROM:-0600
TZOFFSETTO:-0500
TZNAME:CDT
DTSTART:20220313T080000
END:DAYLIGHT
BEGIN:STANDARD
TZOFFSETFROM:-0500
TZOFFSETTO:-0600
TZNAME:CST
DTSTART:20221106T070000
END:STANDARD
BEGIN:DAYLIGHT
TZOFFSETFROM:-0600
TZOFFSETTO:-0500
TZNAME:CDT
DTSTART:20230312T080000
END:DAYLIGHT
BEGIN:STANDARD
TZOFFSETFROM:-0500
TZOFFSETTO:-0600
TZNAME:CST
DTSTART:20231105T070000
END:STANDARD
BEGIN:DAYLIGHT
TZOFFSETFROM:-0600
TZOFFSETTO:-0500
TZNAME:CDT
DTSTART:20240310T080000
END:DAYLIGHT
BEGIN:STANDARD
TZOFFSETFROM:-0500
TZOFFSETTO:-0600
TZNAME:CST
DTSTART:20241103T070000
END:STANDARD
END:VTIMEZONE
BEGIN:VEVENT
DTSTART;TZID=America/Chicago:20231209T100000
DTEND;TZID=America/Chicago:20231209T170000
DTSTAMP:20260423T084339
CREATED:20231206T164904Z
LAST-MODIFIED:20231206T164907Z
UID:10000727-1702116000-1702141200@waysidewaifs.org
SUMMARY:Holiday Open House
DESCRIPTION:Wayside’s Holiday Open House is Saturday\, December 9th! Our doors open at 10am with $50 pet adoptions for animals 5 months and older. There will be refreshments\, treat bags for our furry friends\, a fun holiday photo opportunity\, and shelter tours! Guests are encouraged to bring an item from our wish list. The Holiday Open House has been a long standing tradition and we can’t wait to see you!
URL:https://waysidewaifs.org/event/holiday-open-house-2/
LOCATION:3901 Martha Truman Road \, Kansas City\, 64137\, United States
CATEGORIES:Upcoming Events
END:VEVENT
BEGIN:VEVENT
DTSTART;TZID=America/Chicago:20231210T110000
DTEND;TZID=America/Chicago:20231210T130000
DTSTAMP:20260423T084339
CREATED:20231205T183530Z
LAST-MODIFIED:20231205T183530Z
UID:10000726-1702206000-1702213200@waysidewaifs.org
SUMMARY:Project Pet Warmth
DESCRIPTION:Project Warmth 12_23
URL:https://waysidewaifs.org/event/project-pet-warmth/
LOCATION:YMCA\, 3800 Linwood Blvd\, Kansas City\, Missouri\, 64128
CATEGORIES:Upcoming Events
END:VEVENT
END:VCALENDAR