BEGIN:VCALENDAR
VERSION:2.0
PRODID:-//Welcome to Wayside Waifs - ECPv6.15.20//NONSGML v1.0//EN
CALSCALE:GREGORIAN
METHOD:PUBLISH
X-ORIGINAL-URL:https://waysidewaifs.org
X-WR-CALDESC:Events for Welcome to Wayside Waifs
REFRESH-INTERVAL;VALUE=DURATION:PT1H
X-Robots-Tag:noindex
X-PUBLISHED-TTL:PT1H
BEGIN:VTIMEZONE
TZID:America/Chicago
BEGIN:DAYLIGHT
TZOFFSETFROM:-0600
TZOFFSETTO:-0500
TZNAME:CDT
DTSTART:20240310T080000
END:DAYLIGHT
BEGIN:STANDARD
TZOFFSETFROM:-0500
TZOFFSETTO:-0600
TZNAME:CST
DTSTART:20241103T070000
END:STANDARD
BEGIN:DAYLIGHT
TZOFFSETFROM:-0600
TZOFFSETTO:-0500
TZNAME:CDT
DTSTART:20250309T080000
END:DAYLIGHT
BEGIN:STANDARD
TZOFFSETFROM:-0500
TZOFFSETTO:-0600
TZNAME:CST
DTSTART:20251102T070000
END:STANDARD
BEGIN:DAYLIGHT
TZOFFSETFROM:-0600
TZOFFSETTO:-0500
TZNAME:CDT
DTSTART:20260308T080000
END:DAYLIGHT
BEGIN:STANDARD
TZOFFSETFROM:-0500
TZOFFSETTO:-0600
TZNAME:CST
DTSTART:20261101T070000
END:STANDARD
END:VTIMEZONE
BEGIN:VEVENT
DTSTART;VALUE=DATE:20250901
DTEND;VALUE=DATE:20251101
DTSTAMP:20260421T034211
CREATED:20250910T151543Z
LAST-MODIFIED:20250910T152221Z
UID:10001398-1756684800-1761955199@waysidewaifs.org
SUMMARY:Tom's Town Wags & Whiskey
DESCRIPTION:Tom’s Town Wags & Whiskey is back! This September & October\, every pour of Tom’s Town Double Oaked Bourbon\, Pendergast’s Royal Gold Bourbon\, and Tom’s Town Straight Rye Whiskey benefits the animals at Wayside Waifs.  Tom’s Town is also donating a portion of every bottle sale.
URL:https://waysidewaifs.org/event/toms-town-wags-whiskey/
LOCATION:Tom’s Town\, 1701 Main Street\, Kansas City\, Missouri
CATEGORIES:Upcoming Events
END:VEVENT
BEGIN:VEVENT
DTSTART;TZID=America/Chicago:20250901T110000
DTEND;TZID=America/Chicago:20250901T180000
DTSTAMP:20260421T034211
CREATED:20250826T185914Z
LAST-MODIFIED:20250826T190043Z
UID:10001033-1756724400-1756749600@waysidewaifs.org
SUMMARY:Do Good Co. Annual Sale!
DESCRIPTION:Shop\, Save\,& Help the Shelter Pets!\nDid you know that Do Good Co. is a registered 501(c)3 nonprofit organization that sells vintage and gently loved clothing to raise money for Wayside Waifs & Kids TLC. If you are in the mood for a little shopping next weekend Do Good Co. is hosting their annual alley sale! They are also looking for volunteers to help during the sale\, email me if interested.
URL:https://waysidewaifs.org/event/do-good-co-annual-sale/2025-09-01/
LOCATION:Do Good Co.\, 413 E 18th Street\, Kansas City\, United States
CATEGORIES:Upcoming Events
END:VEVENT
BEGIN:VEVENT
DTSTART;TZID=America/Chicago:20250902T110000
DTEND;TZID=America/Chicago:20250902T180000
DTSTAMP:20260421T034211
CREATED:20250826T185914Z
LAST-MODIFIED:20250826T190043Z
UID:10001034-1756810800-1756836000@waysidewaifs.org
SUMMARY:Do Good Co. Annual Sale!
DESCRIPTION:Shop\, Save\,& Help the Shelter Pets!\nDid you know that Do Good Co. is a registered 501(c)3 nonprofit organization that sells vintage and gently loved clothing to raise money for Wayside Waifs & Kids TLC. If you are in the mood for a little shopping next weekend Do Good Co. is hosting their annual alley sale! They are also looking for volunteers to help during the sale\, email me if interested.
URL:https://waysidewaifs.org/event/do-good-co-annual-sale/2025-09-02/
LOCATION:Do Good Co.\, 413 E 18th Street\, Kansas City\, United States
CATEGORIES:Upcoming Events
END:VEVENT
BEGIN:VEVENT
DTSTART;TZID=America/Chicago:20250903T110000
DTEND;TZID=America/Chicago:20250903T180000
DTSTAMP:20260421T034211
CREATED:20250826T185914Z
LAST-MODIFIED:20250826T190043Z
UID:10001035-1756897200-1756922400@waysidewaifs.org
SUMMARY:Do Good Co. Annual Sale!
DESCRIPTION:Shop\, Save\,& Help the Shelter Pets!\nDid you know that Do Good Co. is a registered 501(c)3 nonprofit organization that sells vintage and gently loved clothing to raise money for Wayside Waifs & Kids TLC. If you are in the mood for a little shopping next weekend Do Good Co. is hosting their annual alley sale! They are also looking for volunteers to help during the sale\, email me if interested.
URL:https://waysidewaifs.org/event/do-good-co-annual-sale/2025-09-03/
LOCATION:Do Good Co.\, 413 E 18th Street\, Kansas City\, United States
CATEGORIES:Upcoming Events
END:VEVENT
BEGIN:VEVENT
DTSTART;TZID=America/Chicago:20250904T110000
DTEND;TZID=America/Chicago:20250904T180000
DTSTAMP:20260421T034211
CREATED:20250826T185914Z
LAST-MODIFIED:20250826T190043Z
UID:10001036-1756983600-1757008800@waysidewaifs.org
SUMMARY:Do Good Co. Annual Sale!
DESCRIPTION:Shop\, Save\,& Help the Shelter Pets!\nDid you know that Do Good Co. is a registered 501(c)3 nonprofit organization that sells vintage and gently loved clothing to raise money for Wayside Waifs & Kids TLC. If you are in the mood for a little shopping next weekend Do Good Co. is hosting their annual alley sale! They are also looking for volunteers to help during the sale\, email me if interested.
URL:https://waysidewaifs.org/event/do-good-co-annual-sale/2025-09-04/
LOCATION:Do Good Co.\, 413 E 18th Street\, Kansas City\, United States
CATEGORIES:Upcoming Events
END:VEVENT
BEGIN:VEVENT
DTSTART;TZID=America/Chicago:20250905T110000
DTEND;TZID=America/Chicago:20250905T180000
DTSTAMP:20260421T034211
CREATED:20250826T185914Z
LAST-MODIFIED:20250826T190043Z
UID:10001037-1757070000-1757095200@waysidewaifs.org
SUMMARY:Do Good Co. Annual Sale!
DESCRIPTION:Shop\, Save\,& Help the Shelter Pets!\nDid you know that Do Good Co. is a registered 501(c)3 nonprofit organization that sells vintage and gently loved clothing to raise money for Wayside Waifs & Kids TLC. If you are in the mood for a little shopping next weekend Do Good Co. is hosting their annual alley sale! They are also looking for volunteers to help during the sale\, email me if interested.
URL:https://waysidewaifs.org/event/do-good-co-annual-sale/2025-09-05/
LOCATION:Do Good Co.\, 413 E 18th Street\, Kansas City\, United States
CATEGORIES:Upcoming Events
END:VEVENT
BEGIN:VEVENT
DTSTART;TZID=America/Chicago:20250906T110000
DTEND;TZID=America/Chicago:20250906T180000
DTSTAMP:20260421T034211
CREATED:20250826T185914Z
LAST-MODIFIED:20250826T190043Z
UID:10001038-1757156400-1757181600@waysidewaifs.org
SUMMARY:Do Good Co. Annual Sale!
DESCRIPTION:Shop\, Save\,& Help the Shelter Pets!\nDid you know that Do Good Co. is a registered 501(c)3 nonprofit organization that sells vintage and gently loved clothing to raise money for Wayside Waifs & Kids TLC. If you are in the mood for a little shopping next weekend Do Good Co. is hosting their annual alley sale! They are also looking for volunteers to help during the sale\, email me if interested.
URL:https://waysidewaifs.org/event/do-good-co-annual-sale/2025-09-06/
LOCATION:Do Good Co.\, 413 E 18th Street\, Kansas City\, United States
CATEGORIES:Upcoming Events
END:VEVENT
BEGIN:VEVENT
DTSTART;TZID=America/Chicago:20250907T110000
DTEND;TZID=America/Chicago:20250907T180000
DTSTAMP:20260421T034211
CREATED:20250826T185914Z
LAST-MODIFIED:20250826T190043Z
UID:10001039-1757242800-1757268000@waysidewaifs.org
SUMMARY:Do Good Co. Annual Sale!
DESCRIPTION:Shop\, Save\,& Help the Shelter Pets!\nDid you know that Do Good Co. is a registered 501(c)3 nonprofit organization that sells vintage and gently loved clothing to raise money for Wayside Waifs & Kids TLC. If you are in the mood for a little shopping next weekend Do Good Co. is hosting their annual alley sale! They are also looking for volunteers to help during the sale\, email me if interested.
URL:https://waysidewaifs.org/event/do-good-co-annual-sale/2025-09-07/
LOCATION:Do Good Co.\, 413 E 18th Street\, Kansas City\, United States
CATEGORIES:Upcoming Events
END:VEVENT
BEGIN:VEVENT
DTSTART;TZID=America/Chicago:20250908T110000
DTEND;TZID=America/Chicago:20250908T180000
DTSTAMP:20260421T034211
CREATED:20250826T185914Z
LAST-MODIFIED:20250826T190043Z
UID:10001040-1757329200-1757354400@waysidewaifs.org
SUMMARY:Do Good Co. Annual Sale!
DESCRIPTION:Shop\, Save\,& Help the Shelter Pets!\nDid you know that Do Good Co. is a registered 501(c)3 nonprofit organization that sells vintage and gently loved clothing to raise money for Wayside Waifs & Kids TLC. If you are in the mood for a little shopping next weekend Do Good Co. is hosting their annual alley sale! They are also looking for volunteers to help during the sale\, email me if interested.
URL:https://waysidewaifs.org/event/do-good-co-annual-sale/2025-09-08/
LOCATION:Do Good Co.\, 413 E 18th Street\, Kansas City\, United States
CATEGORIES:Upcoming Events
END:VEVENT
BEGIN:VEVENT
DTSTART;TZID=America/Chicago:20250909T110000
DTEND;TZID=America/Chicago:20250909T180000
DTSTAMP:20260421T034211
CREATED:20250910T194235Z
LAST-MODIFIED:20250910T194236Z
UID:10001041-1757415600-1757440800@waysidewaifs.org
SUMMARY:Do Good Co. Annual Sale!
DESCRIPTION:Shop\, Save\,& Help the Shelter Pets!\nDid you know that Do Good Co. is a registered 501(c)3 nonprofit organization that sells vintage and gently loved clothing to raise money for Wayside Waifs & Kids TLC. If you are in the mood for a little shopping next weekend Do Good Co. is hosting their annual alley sale! They are also looking for volunteers to help during the sale\, email me if interested.
URL:https://waysidewaifs.org/event/do-good-co-annual-sale-2/
LOCATION:Do Good Co.\, 413 E 18th Street\, Kansas City\, United States
CATEGORIES:Upcoming Events
END:VEVENT
BEGIN:VEVENT
DTSTART;TZID=America/Chicago:20250913T120000
DTEND;TZID=America/Chicago:20250913T150000
DTSTAMP:20260421T034211
CREATED:20250910T152116Z
LAST-MODIFIED:20250910T152309Z
UID:10001399-1757764800-1757775600@waysidewaifs.org
SUMMARY:PAWSITIVE VIBES
DESCRIPTION:Check out this suPURR fun event hosted by Diametric Brewery and Charboneau Lorance Real Estate Group! \n\n\nThere will be a limited number of Pawsitive Vibes Pint Glasses available as well as 4 packs to-go. $10 gets you a custom glass\, your first pour and a portion of the proceeds goes directly to support the shelter pets at Wayside Waifs. There will be lots of raffle prizes and yard games as well! Did we mention pups? Join the fun on Saturday\, September 13!
URL:https://waysidewaifs.org/event/pawsitive-vibes/
LOCATION:Diametric Brewery\, 949 NE Columbus\, Lee's Summit\, Missouri\, 64086
CATEGORIES:Upcoming Events
END:VEVENT
BEGIN:VEVENT
DTSTART;TZID=America/Chicago:20250928T073000
DTEND;TZID=America/Chicago:20250928T113000
DTSTAMP:20260421T034211
CREATED:20250304T191039Z
LAST-MODIFIED:20250702T200339Z
UID:10001020-1759044600-1759059000@waysidewaifs.org
SUMMARY:Strutt With Your Mutt
DESCRIPTION:Strutt With Your Mutt is the largest and longest-running 3k/5k event for dogs and their people in Kansas City. Recently voted one of the top 10 run/walks in KC\, more than 1\,500 dogs and their people will strutt in the beautiful Brookside neighborhood on Sept. 28 for a morning filled with furry fun\, photo ops\, dog costume contest\, kid’s dash\, vendor village shopping with 30+ booths\, and much more! Start a team today and support Wayside Waifs‘s life-saving mission\, which will serve nearly 30\,000 pets and people this year. \nREGISTER NOW!
URL:https://waysidewaifs.org/event/strutt-with-your-mutt-3/
LOCATION:Brookside Boulevard
CATEGORIES:Upcoming Events
END:VEVENT
BEGIN:VEVENT
DTSTART;TZID=America/Chicago:20250930T170000
DTEND;TZID=America/Chicago:20250930T180000
DTSTAMP:20260421T034211
CREATED:20250814T161544Z
LAST-MODIFIED:20250814T161545Z
UID:10001028-1759251600-1759255200@waysidewaifs.org
SUMMARY:Families In Action
DESCRIPTION:Families who love helping animals will work together on a volunteer project such as making cat toys or dog treats. Each visit also includes a short tour of adoptable animals! Youth must be accompanied by an adult. Projects may vary depending on shelter needs and will not include direct contact with the animals. \nProjects might include: \n\nMaking dog and cat toys\nFolding  laundry\nReading to current Waifs\nAnd more!\n\nThe next Families In Action Day is Sept. 30th! Sign-up now to join the fun!
URL:https://waysidewaifs.org/event/families-in-action-2/
CATEGORIES:Upcoming Events
END:VEVENT
END:VCALENDAR